BEGIN:VCALENDAR
VERSION:2.0
PRODID:SchoolNow
CALSCALE:GREGORIAN
BEGIN:VEVENT
UID:9c819712-794e-11ec-89f0-0ad4dae92445
DTSTAMP:20220119T173828Z
SUMMARY:Early dismissal for middle school students
URL;VALUE=URI:https://www.albanyschools.org/schools/myers/calendar/3077938/
 early-dismissal-for-middle-school-students-clone
DTSTART:20220316T173000Z
DTEND:20220316T183000Z
END:VEVENT
END:VCALENDAR
