BEGIN:VCALENDAR
VERSION:2.0
PRODID:SchoolNow
CALSCALE:GREGORIAN
BEGIN:VEVENT
UID:80a685ec-7a35-11ec-ae73-0e89e05d5f05
DTSTAMP:20220120T211115Z
SUMMARY:Chipotle Fundraiser
URL;VALUE=URI:https://www.albanyschools.org/schools/myers/calendar/3078940/
 chipotle-fundraiser
DTSTART:20220404T201000Z
DTEND:20220404T211000Z
END:VEVENT
END:VCALENDAR
