BEGIN:VCALENDAR
VERSION:2.0
PRODID:SchoolNow
CALSCALE:GREGORIAN
BEGIN:VEVENT
UID:a8e79262-8a98-11ec-b2a0-0262370ac81d
DTSTAMP:20220210T174121Z
SUMMARY:Teen Night
URL;VALUE=URI:https://www.albanyschools.org/schools/myers/calendar/3099112/
 teen-night
DTSTART:20220217T220000Z
DTEND:20220218T000000Z
END:VEVENT
END:VCALENDAR
