BEGIN:VCALENDAR
VERSION:2.0
PRODID:SchoolNow
CALSCALE:GREGORIAN
BEGIN:VEVENT
UID:3dca1af8-8b57-11ec-a8fd-0a2d92718bd5
DTSTAMP:20220211T162535Z
SUMMARY:Grade 6 Honor Roll Ceremony
URL;VALUE=URI:https://www.albanyschools.org/schools/myers/calendar/3100369/
 grade-6-honor-roll-ceremony
DTSTART:20220215T134500Z
DTEND:20220215T144500Z
END:VEVENT
END:VCALENDAR
