BEGIN:VCALENDAR
VERSION:2.0
PRODID:SchoolNow
CALSCALE:GREGORIAN
BEGIN:VEVENT
UID:7083b2ec-8b57-11ec-bd81-0e0689718b51
DTSTAMP:20220211T162700Z
SUMMARY:Grade 7 Honor Roll Ceremony
URL;VALUE=URI:https://www.albanyschools.org/schools/myers/calendar/3100378/
 grade-7-honor-roll-ceremony
DTSTART:20220216T134500Z
DTEND:20220216T144500Z
END:VEVENT
END:VCALENDAR
