BEGIN:VCALENDAR
VERSION:2.0
PRODID:SchoolNow
CALSCALE:GREGORIAN
BEGIN:VEVENT
UID:85da0696-8b57-11ec-b4e2-020eee1b8d33
DTSTAMP:20220211T162736Z
SUMMARY:Grade 8 Honor Roll Ceremony
URL;VALUE=URI:https://www.albanyschools.org/schools/myers/calendar/3100379/
 grade-8-honor-roll-ceremony
DTSTART:20220217T134500Z
DTEND:20220217T144500Z
END:VEVENT
END:VCALENDAR
