BEGIN:VCALENDAR
VERSION:2.0
PRODID:SchoolNow
CALSCALE:GREGORIAN
BEGIN:VEVENT
UID:da9afa84-9bdb-11ec-b634-026e53151f51
DTSTAMP:20220304T165510Z
SUMMARY:PTSA meeting
URL;VALUE=URI:https://www.albanyschools.org/schools/myers/calendar/3124244/
 ptsa-meeting
DTSTART:20220307T231500Z
DTEND:20220308T004500Z
END:VEVENT
END:VCALENDAR
