BEGIN:VCALENDAR
VERSION:2.0
PRODID:SchoolNow
CALSCALE:GREGORIAN
BEGIN:VEVENT
UID:af030cba-a9e9-11ec-a52c-0a77a7eed393
DTSTAMP:20220322T140927Z
SUMMARY:Teen Night
URL;VALUE=URI:https://www.albanyschools.org/schools/myers/calendar/3139670/
 teen-night
DTSTART:20220322T210000Z
DTEND:20220322T230000Z
END:VEVENT
END:VCALENDAR
