BEGIN:VCALENDAR
VERSION:2.0
PRODID:SchoolNow
CALSCALE:GREGORIAN
BEGIN:VEVENT
UID:6bfa4990-b5ad-11ec-b0fc-0a95b268d665
DTSTAMP:20220406T132818Z
SUMMARY:Spring Concert and Art Show
URL;VALUE=URI:https://www.albanyschools.org/schools/myers/calendar/3154943/
 spring-concert-and-art-show
DTSTART:20220525T223000Z
DTEND:20220525T233000Z
END:VEVENT
END:VCALENDAR
