BEGIN:VCALENDAR
VERSION:2.0
PRODID:SchoolNow
CALSCALE:GREGORIAN
BEGIN:VEVENT
UID:18985e68-b74c-11ec-a221-0e774abeaac1
DTSTAMP:20220408T145639Z
SUMMARY:PTSA meeting
URL;VALUE=URI:https://www.albanyschools.org/schools/myers/calendar/3163567/
 ptsa-meeting
DTSTART:20220411T221500Z
DTEND:20220411T231500Z
END:VEVENT
END:VCALENDAR
