BEGIN:VCALENDAR
VERSION:2.0
PRODID:SchoolNow
CALSCALE:GREGORIAN
BEGIN:VEVENT
UID:2e2485d6-cfcf-11ec-aec0-0e918883c875
DTSTAMP:20220509T193528Z
SUMMARY:Middle School Musical: 'Moana Jr.'
LOCATION:Hackett Middle School\, 45 Delaware Ave.
URL;VALUE=URI:https://www.albanyschools.org/schools/myers/calendar/3193548/
 middle-school-musical-moana-jr
DTSTART:20220604T180000Z
DTEND:20220604T190000Z
END:VEVENT
END:VCALENDAR
