BEGIN:VCALENDAR
VERSION:2.0
PRODID:SchoolNow
CALSCALE:GREGORIAN
BEGIN:VEVENT
UID:9a0adae4-d78f-11ec-a0f5-0ea22d748535
DTSTAMP:20220815T142101Z
SUMMARY:Modified spring sports begin
URL;VALUE=URI:https://www.albanyschools.org/schools/myers/calendar/3201931/
 modified-spring-sports-begin
DTSTART;VALUE=DATE:20230327
DTEND;VALUE=DATE:20230328
END:VEVENT
END:VCALENDAR
