BEGIN:VCALENDAR
VERSION:2.0
PRODID:SchoolNow
CALSCALE:GREGORIAN
BEGIN:VEVENT
UID:51f3dd58-db9c-11ec-afd6-02460f660a77
DTSTAMP:20220610T175353Z
SUMMARY:Grade 8 Moving Up Ceremony
URL;VALUE=URI:https://www.albanyschools.org/schools/myers/calendar/3205337/
 grade-8-moving-up-ceremony
DTSTART:20220624T130000Z
DTEND:20220624T140000Z
END:VEVENT
END:VCALENDAR
