BEGIN:VCALENDAR
VERSION:2.0
PRODID:SchoolNow
CALSCALE:GREGORIAN
BEGIN:VEVENT
UID:ff61cf12-dd14-11ec-a57a-0e2721e43ec1
DTSTAMP:20220526T165759Z
SUMMARY:Grade 6 - Team Sage - JCC field trip
URL;VALUE=URI:https://www.albanyschools.org/schools/myers/calendar/3206981/
 grade-6-team-sage-jcc-field-trip
DTSTART:20220613T165600Z
DTEND:20220613T175600Z
END:VEVENT
END:VCALENDAR
