BEGIN:VCALENDAR
VERSION:2.0
PRODID:SchoolNow
CALSCALE:GREGORIAN
BEGIN:VEVENT
UID:2ddb118c-dd15-11ec-ba49-0e786fa374e3
DTSTAMP:20220526T165917Z
SUMMARY:Grade 6 - Team UAlbany - Carnival
URL;VALUE=URI:https://www.albanyschools.org/schools/myers/calendar/3206983/
 grade-6-team-ualbany-carnival
DTSTART:20220614T165800Z
DTEND:20220614T175800Z
END:VEVENT
END:VCALENDAR
