BEGIN:VCALENDAR
VERSION:2.0
PRODID:SchoolNow
CALSCALE:GREGORIAN
BEGIN:VEVENT
UID:4692e0c4-dd15-11ec-9d86-0e9f7004af79
DTSTAMP:20220526T165958Z
SUMMARY:Carnival rain date
URL;VALUE=URI:https://www.albanyschools.org/schools/myers/calendar/3206984/
 carnival-rain-date
DTSTART:20220616T165900Z
DTEND:20220616T175900Z
END:VEVENT
END:VCALENDAR
