BEGIN:VCALENDAR
VERSION:2.0
PRODID:SchoolNow
CALSCALE:GREGORIAN
BEGIN:VEVENT
UID:53869410-dd15-11ec-bc0c-025ebd1d4bdf
DTSTAMP:20220526T170020Z
SUMMARY:JCC rain date
URL;VALUE=URI:https://www.albanyschools.org/schools/myers/calendar/3206985/
 jcc-rain-date
DTSTART:20220617T170000Z
DTEND:20220617T180000Z
END:VEVENT
END:VCALENDAR
