BEGIN:VCALENDAR
VERSION:2.0
PRODID:SchoolNow
CALSCALE:GREGORIAN
BEGIN:VEVENT
UID:95d93d7c-dd15-11ec-b530-0ab3960fe68f
DTSTAMP:20220526T170211Z
SUMMARY:Grade 7 - Field Dat\, BBQ and Stewart's ice cream
URL;VALUE=URI:https://www.albanyschools.org/schools/myers/calendar/3206986/
 grade-7-field-dat-bbq-and-stewarts-ice-cream
DTSTART:20220621T170100Z
DTEND:20220621T180100Z
END:VEVENT
END:VCALENDAR
