BEGIN:VCALENDAR
VERSION:2.0
PRODID:SchoolNow
CALSCALE:GREGORIAN
BEGIN:VEVENT
UID:a8dfbeb4-dd15-11ec-b274-0a1cfe3ccba1
DTSTAMP:20220526T170243Z
SUMMARY:Grade 8 - Movie Day
URL;VALUE=URI:https://www.albanyschools.org/schools/myers/calendar/3206987/
 grade-8-movie-day
DTSTART:20220621T170200Z
DTEND:20220621T180200Z
END:VEVENT
END:VCALENDAR
