BEGIN:VCALENDAR
VERSION:2.0
PRODID:SchoolNow
CALSCALE:GREGORIAN
BEGIN:VEVENT
UID:d7ca6c56-dd15-11ec-a3fe-0a26b8331069
DTSTAMP:20220526T170402Z
SUMMARY:Grade 6 - Field Day\, BBQ and Stewart's ice cream
URL;VALUE=URI:https://www.albanyschools.org/schools/myers/calendar/3206988/
 grade-6-field-day-bbq-and-stewarts-ice-cream
DTSTART:20220622T170200Z
DTEND:20220622T180200Z
END:VEVENT
END:VCALENDAR
