BEGIN:VCALENDAR
VERSION:2.0
PRODID:SchoolNow
CALSCALE:GREGORIAN
BEGIN:VEVENT
UID:1057a9a8-dd16-11ec-a14e-0ab3960fe68f
DTSTAMP:20220526T170537Z
SUMMARY:Grade 8 - Brunch\, Tie Dye Day\, Moving Up Ceremony rehearsal
URL;VALUE=URI:https://www.albanyschools.org/schools/myers/calendar/3206989/
 grade-8-brunch-tie-dye-day-moving-up-ceremony-rehearsal
DTSTART:20220622T170400Z
DTEND:20220622T180400Z
END:VEVENT
END:VCALENDAR
