BEGIN:VCALENDAR
VERSION:2.0
PRODID:SchoolNow
CALSCALE:GREGORIAN
BEGIN:VEVENT
UID:285d10ec-dd16-11ec-b961-025ebd1d4bdf
DTSTAMP:20220526T170617Z
SUMMARY:Grade 6 Movie Day
URL;VALUE=URI:https://www.albanyschools.org/schools/myers/calendar/3206990/
 grade-6-movie-day
DTSTART:20220623T170500Z
DTEND:20220623T180500Z
END:VEVENT
END:VCALENDAR
