BEGIN:VCALENDAR
VERSION:2.0
PRODID:SchoolNow
CALSCALE:GREGORIAN
BEGIN:VEVENT
UID:3d24f616-dd16-11ec-8122-0e8aa5f04211
DTSTAMP:20220526T170652Z
SUMMARY:Grade 7 - Awards Day
URL;VALUE=URI:https://www.albanyschools.org/schools/myers/calendar/3206991/
 grade-7-awards-day
DTSTART:20220623T170600Z
DTEND:20220623T180600Z
END:VEVENT
END:VCALENDAR
