BEGIN:VCALENDAR
VERSION:2.0
PRODID:SchoolNow
CALSCALE:GREGORIAN
BEGIN:VEVENT
UID:677e353a-dd16-11ec-b7cb-026087ad0a89
DTSTAMP:20220526T170803Z
SUMMARY:Grade 8 - Field Day and picnic
URL;VALUE=URI:https://www.albanyschools.org/schools/myers/calendar/3206992/
 grade-8-field-day-and-picnic
DTSTART:20220623T170600Z
DTEND:20220623T180600Z
END:VEVENT
END:VCALENDAR
