BEGIN:VCALENDAR
VERSION:2.0
PRODID:SchoolNow
CALSCALE:GREGORIAN
BEGIN:VEVENT
UID:76adc462-dd16-11ec-a18e-02460f660a77
DTSTAMP:20220526T170829Z
SUMMARY:Grade 8 Dance
URL;VALUE=URI:https://www.albanyschools.org/schools/myers/calendar/3206993/
 grade-8-dance
DTSTART:20220623T210000Z
DTEND:20220623T230000Z
END:VEVENT
END:VCALENDAR
