BEGIN:VCALENDAR
VERSION:2.0
PRODID:SchoolNow
CALSCALE:GREGORIAN
BEGIN:VEVENT
UID:c17efa4c-dd16-11ec-98c9-0e9f7004af79
DTSTAMP:20220526T171124Z
SUMMARY:Grade 8 Student Awards Party
URL;VALUE=URI:https://www.albanyschools.org/schools/myers/calendar/3206994/
 grade-8-student-awards-party
DTSTART:20220622T170800Z
DTEND:20220622T180800Z
END:VEVENT
END:VCALENDAR
