BEGIN:VCALENDAR
VERSION:2.0
PRODID:SchoolNow
CALSCALE:GREGORIAN
BEGIN:VEVENT
UID:89a6dc84-0e99-11ed-92db-023fa4cf8d29
DTSTAMP:20220728T172012Z
SUMMARY:Transition Camp (rising sixth graders only)
URL;VALUE=URI:https://www.albanyschools.org/schools/myers/calendar/3257773/
 transition-camp-rising-sixth-graders-only
DTSTART:20220822T120000Z
DTEND:20220826T153000Z
END:VEVENT
END:VCALENDAR
