BEGIN:VCALENDAR
VERSION:2.0
PRODID:SchoolNow
CALSCALE:GREGORIAN
BEGIN:VEVENT
UID:a7ce43d2-0e99-11ed-81c1-0afa3709df13
DTSTAMP:20220728T172102Z
SUMMARY:Information Night for parents/guardians grades 6-8
URL;VALUE=URI:https://www.albanyschools.org/schools/myers/calendar/3257775/
 information-night-for-parents-guardians-grades-6-8
DTSTART:20220822T213000Z
DTEND:20220822T223000Z
END:VEVENT
END:VCALENDAR
