BEGIN:VCALENDAR
VERSION:2.0
PRODID:SchoolNow
CALSCALE:GREGORIAN
BEGIN:VEVENT
UID:cb592bde-17fc-11ed-b7d1-02d025cb5fd7
DTSTAMP:20220809T160340Z
SUMMARY:First days of school: Myers
DESCRIPTION:View event details for a look at which grades attend which day 
 on Thursday 9/1 and Friday 9/2.
URL;VALUE=URI:https://www.albanyschools.org/schools/myers/calendar/3274752/
 first-days-of-school-myers
DTSTART;VALUE=DATE:20220901
DTEND;VALUE=DATE:20220903
END:VEVENT
END:VCALENDAR
