BEGIN:VCALENDAR
VERSION:2.0
PRODID:SchoolNow
CALSCALE:GREGORIAN
BEGIN:VEVENT
UID:b557760c-1ca1-11ed-9ed6-02013ad6b03f
DTSTAMP:20220815T135357Z
SUMMARY:SECONDARY MARKING PERIOD (1/27)
URL;VALUE=URI:https://www.albanyschools.org/schools/myers/calendar/3282174/
 secondary-marking-period-1-27
DTSTART;VALUE=DATE:20230127
DTEND;VALUE=DATE:20230128
END:VEVENT
END:VCALENDAR
