BEGIN:VCALENDAR
VERSION:2.0
PRODID:SchoolNow
CALSCALE:GREGORIAN
BEGIN:VEVENT
UID:853ae0f6-1ca8-11ed-8050-0298f1c1417d
DTSTAMP:20230504T153016Z
SUMMARY:NYS science written exam (grade 8)
URL;VALUE=URI:https://www.albanyschools.org/schools/myers/calendar/3282316/
 nys-science-written-exam-grade-8
DTSTART;VALUE=DATE:20230605
DTEND;VALUE=DATE:20230606
END:VEVENT
END:VCALENDAR
