BEGIN:VCALENDAR
VERSION:2.0
PRODID:SchoolNow
CALSCALE:GREGORIAN
BEGIN:VEVENT
UID:1dfef738-2af4-11ed-ba45-0ab1012006d1
DTSTAMP:20220902T191908Z
SUMMARY:Teen Night
URL;VALUE=URI:https://www.albanyschools.org/schools/myers/calendar/3335021/
 teen-night
DTSTART:20221109T220000Z
DTEND:20221110T000000Z
END:VEVENT
END:VCALENDAR
