BEGIN:VCALENDAR
VERSION:2.0
PRODID:SchoolNow
CALSCALE:GREGORIAN
BEGIN:VEVENT
UID:33d4d6d6-2af4-11ed-a8c0-0288ad76468b
DTSTAMP:20230112T135643Z
SUMMARY:Glow Party
URL;VALUE=URI:https://www.albanyschools.org/schools/myers/calendar/3335022/
 glow-party
DTSTART:20230216T220000Z
DTEND:20230217T000000Z
END:VEVENT
END:VCALENDAR
