BEGIN:VCALENDAR
VERSION:2.0
PRODID:SchoolNow
CALSCALE:GREGORIAN
BEGIN:VEVENT
UID:f5a00cdc-3854-11ed-b8ba-0aebcbcf6717
DTSTAMP:20220919T195506Z
SUMMARY:Join us at open house
URL;VALUE=URI:https://www.albanyschools.org/schools/myers/calendar/3415517/
 join-us-at-open-house
DTSTART:20220921T213000Z
DTEND:20220921T230000Z
END:VEVENT
END:VCALENDAR
