BEGIN:VCALENDAR
VERSION:2.0
PRODID:SchoolNow
CALSCALE:GREGORIAN
BEGIN:VEVENT
UID:71722a74-3e69-11ed-a162-0a320b65eb6d
DTSTAMP:20220927T133651Z
SUMMARY:Fall 2022 Picture Day
URL;VALUE=URI:https://www.albanyschools.org/schools/myers/calendar/3449384/
 fall-2022-picture-day
DTSTART:20221013T133600Z
DTEND:20221014T143600Z
END:VEVENT
END:VCALENDAR
