BEGIN:VCALENDAR
VERSION:2.0
PRODID:SchoolNow
CALSCALE:GREGORIAN
BEGIN:VEVENT
UID:58aca590-4978-11ed-b39d-0e522641a2c5
DTSTAMP:20221012T142410Z
SUMMARY:PTSA meeting
URL;VALUE=URI:https://www.albanyschools.org/schools/myers/calendar/3509047/
 ptsa-meeting
DTSTART:20221017T220000Z
DTEND:20221017T230000Z
END:VEVENT
END:VCALENDAR
