BEGIN:VCALENDAR
VERSION:2.0
PRODID:SchoolNow
CALSCALE:GREGORIAN
BEGIN:VEVENT
UID:d844e016-4e59-11ed-93c5-0a0185b07735
DTSTAMP:20221017T204132Z
SUMMARY:MIDDLE SCHOOLS DISMISS EARLY (10/19)
URL;VALUE=URI:https://www.albanyschools.org/schools/myers/calendar/3530838/
 middle-schools-dismiss-early-10-19
DTSTART:20221019T173000Z
DTEND:20221019T183000Z
END:VEVENT
END:VCALENDAR
