BEGIN:VCALENDAR
VERSION:2.0
PRODID:SchoolNow
CALSCALE:GREGORIAN
BEGIN:VEVENT
UID:a4942644-4fd2-11ed-93d6-0ed1cf349c03
DTSTAMP:20221019T172244Z
SUMMARY:Trunk-or-Treat
URL;VALUE=URI:https://www.albanyschools.org/schools/myers/calendar/3540695/
 trunk-or-treat
DTSTART:20221026T213000Z
DTEND:20221026T223000Z
END:VEVENT
END:VCALENDAR
