BEGIN:VCALENDAR
VERSION:2.0
PRODID:SchoolNow
CALSCALE:GREGORIAN
BEGIN:VEVENT
UID:e2600ac4-4fd2-11ed-aa06-0eaf4d74acef
DTSTAMP:20221019T172427Z
SUMMARY:Winter concert and art show
URL;VALUE=URI:https://www.albanyschools.org/schools/myers/calendar/3540698/
 winter-concert-and-art-show
DTSTART:20221213T233000Z
DTEND:20221214T003000Z
END:VEVENT
END:VCALENDAR
