BEGIN:VCALENDAR
VERSION:2.0
PRODID:SchoolNow
CALSCALE:GREGORIAN
BEGIN:VEVENT
UID:dc2e303c-5940-11ed-af21-0e4a58c70f8f
DTSTAMP:20221101T152025Z
SUMMARY:PTSA meeting
URL;VALUE=URI:https://www.albanyschools.org/schools/myers/calendar/3576177/
 ptsa-meeting
DTSTART:20221121T230000Z
DTEND:20221122T000000Z
END:VEVENT
END:VCALENDAR
