BEGIN:VCALENDAR
VERSION:2.0
PRODID:SchoolNow
CALSCALE:GREGORIAN
BEGIN:VEVENT
UID:e7d950d8-5940-11ed-b142-0a6e37818959
DTSTAMP:20221031T172442Z
SUMMARY:Picture make-up day
URL;VALUE=URI:https://www.albanyschools.org/schools/myers/calendar/3576178/
 picture-make-up-day
DTSTART:20221115T182400Z
DTEND:20221115T192400Z
END:VEVENT
END:VCALENDAR
