BEGIN:VCALENDAR
VERSION:2.0
PRODID:SchoolNow
CALSCALE:GREGORIAN
BEGIN:VEVENT
UID:67b704ec-5ac9-11ed-9885-0a88d797c21d
DTSTAMP:20221102T161419Z
SUMMARY:Spirit Week: Pajama Day
URL;VALUE=URI:https://www.albanyschools.org/schools/myers/calendar/3582540/
 spirit-week-pajama-day
DTSTART:20221107T171300Z
DTEND:20221107T181300Z
END:VEVENT
END:VCALENDAR
