BEGIN:VCALENDAR
VERSION:2.0
PRODID:SchoolNow
CALSCALE:GREGORIAN
BEGIN:VEVENT
UID:7ca807c0-5ac9-11ed-8e70-0e70bd564f47
DTSTAMP:20221102T161454Z
SUMMARY:Spirit Week: Dress like a Teacher
URL;VALUE=URI:https://www.albanyschools.org/schools/myers/calendar/3582541/
 spirit-week-dress-like-a-teacher
DTSTART:20221108T171400Z
DTEND:20221108T181400Z
END:VEVENT
END:VCALENDAR
