BEGIN:VCALENDAR
VERSION:2.0
PRODID:SchoolNow
CALSCALE:GREGORIAN
BEGIN:VEVENT
UID:9114f358-5ac9-11ed-9f0f-0ea27482e145
DTSTAMP:20221102T161528Z
SUMMARY:Spirit Week: College and Career Day
URL;VALUE=URI:https://www.albanyschools.org/schools/myers/calendar/3582542/
 spirit-week-college-and-career-day
DTSTART:20221109T171500Z
DTEND:20221109T181500Z
END:VEVENT
END:VCALENDAR
