BEGIN:VCALENDAR
VERSION:2.0
PRODID:SchoolNow
CALSCALE:GREGORIAN
BEGIN:VEVENT
UID:9da65d3c-5ac9-11ed-a066-023deb05085d
DTSTAMP:20221102T161549Z
SUMMARY:Spirit Week: Junior Falcon Pride
URL;VALUE=URI:https://www.albanyschools.org/schools/myers/calendar/3582543/
 spirit-week-junior-falcon-pride
DTSTART:20221110T171500Z
DTEND:20221110T181500Z
END:VEVENT
END:VCALENDAR
