BEGIN:VCALENDAR
VERSION:2.0
PRODID:SchoolNow
CALSCALE:GREGORIAN
BEGIN:VEVENT
UID:92af0b38-69a4-11ed-908d-0e089b8c8c75
DTSTAMP:20221121T135827Z
SUMMARY:Grade 6 Honor Roll
URL;VALUE=URI:https://www.albanyschools.org/schools/myers/calendar/3619785/
 grade-6-honor-roll
DTSTART:20221215T133000Z
DTEND:20221215T143000Z
END:VEVENT
END:VCALENDAR
