BEGIN:VCALENDAR
VERSION:2.0
PRODID:SchoolNow
CALSCALE:GREGORIAN
BEGIN:VEVENT
UID:9fe7b5de-69a4-11ed-a704-02a84c39ea53
DTSTAMP:20221121T135849Z
SUMMARY:Grade 8 Honor Roll
URL;VALUE=URI:https://www.albanyschools.org/schools/myers/calendar/3619786/
 grade-8-honor-roll
DTSTART:20221216T133000Z
DTEND:20221216T143000Z
END:VEVENT
END:VCALENDAR
