BEGIN:VCALENDAR
VERSION:2.0
PRODID:SchoolNow
CALSCALE:GREGORIAN
BEGIN:VEVENT
UID:b5aedf96-69a4-11ed-b2a7-0a8935f946cd
DTSTAMP:20221121T135926Z
SUMMARY:Grade 7 Honor Roll
URL;VALUE=URI:https://www.albanyschools.org/schools/myers/calendar/3619787/
 grade-7-honor-roll
DTSTART:20221216T143000Z
DTEND:20221216T153000Z
END:VEVENT
END:VCALENDAR
