BEGIN:VCALENDAR
VERSION:2.0
PRODID:SchoolNow
CALSCALE:GREGORIAN
BEGIN:VEVENT
UID:7875e1f8-77da-11ed-923d-02a4a0faf379
DTSTAMP:20221209T161322Z
SUMMARY:Myers Teen Night
URL;VALUE=URI:https://www.albanyschools.org/schools/myers/calendar/3639303/
 myers-teen-night
DTSTART:20221215T220000Z
DTEND:20221216T000000Z
END:VEVENT
END:VCALENDAR
