BEGIN:VCALENDAR
VERSION:2.0
PRODID:SchoolNow
CALSCALE:GREGORIAN
BEGIN:VEVENT
UID:2c03b71e-8e00-11ed-9ade-0e0fb2d22fdf
DTSTAMP:20230106T202450Z
SUMMARY:PTSA Meeting
URL;VALUE=URI:https://www.albanyschools.org/schools/myers/calendar/3657340/
 ptsa-meeting
DTSTART:20230111T230000Z
DTEND:20230112T001500Z
END:VEVENT
END:VCALENDAR
